BEGIN:VCALENDAR
VERSION:2.0
PRODID:Events Booking
BEGIN:VEVENT
UID:69ea7ffd368fa
SUMMARY:Chasse au Trésor
DESCRIPTION:CHASSE AUX TRÉSORS 1ère Édition - Club Mustang Outaouais
 
  
 Nous vous invitons à une chasse aux trésors le 9 mai 2026 afin de v
 ous faire découvrir notre belle région de Outaouais et son histoire.
 P
 réparez votre lunch\, car un arrêt dîner obligatoire aura lieu pour tou
 s entre 12h00 et 13h00.
 Horaire de la journée du 9 mai 2026
 • Prés
 ence requise : 08h00 (explication du déroulement de la journée)
 • D
 épart officiel : 08h30
 • Lieu de départ et d’arrivée : 981 boulev
 ard St-Joseph\, dans la cour du concessionnaire Lallier Honda Hull
 • 
 Retour fixé : 16h00\, que vous ayez terminé ou non.
 Note:  Tous les d
 étails et la réglementation sont inclus dans la pièce jointe (vous deve
 z vous connecter pour y accéder)
 Nous terminerons cette belle journée 
 en partageant un bon repas ensemble\, au cours duquel nous annoncerons les
  trois gagnants de la journée.
 À vos bolides\, ceinture attachée… V
 room Vroom Go ! Il faut se rappeler que cette activité n'est pas une cour
 se! 
 Si vous avez des questions\, communiquer avec Eric Courroux à l'a
 dresse courriel randonnee@clubmustangoutaouais.ca
  
LOCATION:981 Boulevard Saint-Joseph\, Gatineau\, Quebec J8Z 1W8
DTSTART:20260509T120000Z
DTEND:20260509T200000Z
DTSTAMP:20260217T090318Z
ORGANIZER;CN=Divertissement:MAILTO:divertissement@clubmustangoutaouais.ca
GEO:45.470255;-75.741665
X-APPLE-STRUCTURED-LOCATION;VALUE=URI;X-ADDRESS=981 Boulevard Saint-Joseph\
 , Gatineau\, Quebec J8Z 1W8;X-APPLE-RADIUS=72;X-TITLE=Lallier Automobiles 
 Hull:45.470255;-75.741665
END:VEVENT
END:VCALENDAR