BEGIN:VCALENDAR
VERSION:2.0
PRODID:Events Booking
BEGIN:VEVENT
UID:69ead4d5e83e8
SUMMARY:Exposition - Festival des Montgolfières
DESCRIPTION:NON CONFIRMÉ - DÉTAILS A VENIR
DTSTART:20260905T040000Z
DTSTAMP:20260217T111829Z
ORGANIZER;CN=Divertissement:MAILTO:divertissement@clubmustangoutaouais.ca
END:VEVENT
END:VCALENDAR