BEGIN:VCALENDAR
VERSION:2.0
PRODID:Events Booking
BEGIN:VEVENT
UID:69eb17af44958
SUMMARY:Randonnée des couleurs - Mont-Blanc
DESCRIPTION:NON CONFIRMÉ - DÉTAILS À VENIR
LOCATION:1006 Rte 117 Mont-Blanc\, Quebec J0T 2G0 Canada
DTSTART:20261010T040000Z
DTSTAMP:20260217T112437Z
ORGANIZER;CN=Divertissement:MAILTO:divertissement@clubmustangoutaouais.ca
GEO:46.109054;-74.4867
X-APPLE-STRUCTURED-LOCATION;VALUE=URI;X-ADDRESS=1006 Rte 117 Mont-Blanc\, Q
 uebec J0T 2G0 Canada;X-APPLE-RADIUS=72;X-TITLE=Station Ski Mont Blanc:46.1
 09054;-74.4867
END:VEVENT
END:VCALENDAR