BEGIN:VCALENDAR
VERSION:2.0
PRODID:Events Booking
BEGIN:VEVENT
UID:69eaea2232f71
SUMMARY:Assemblée générale annuelle - CMO
DESCRIPTION:NON CONFIRMÉ - DÉTAILS À VENIR
DTSTART:20261021T040000Z
DTSTAMP:20260217T112749Z
ORGANIZER;CN=Divertissement:MAILTO:divertissement@clubmustangoutaouais.ca
END:VEVENT
END:VCALENDAR