BEGIN:VCALENDAR
VERSION:2.0
PRODID:Events Booking
BEGIN:VEVENT
UID:69ea98522087b
SUMMARY:Randonnée (2 jours) Kingston Fort Henry et Prison
DESCRIPTION:CONFIRMÉ - DÉTAILS À SUIVRE
DTSTART:20260620T114000Z
DTEND:20260621T200000Z
DTSTAMP:20260217T113503Z
ORGANIZER;CN=Divertissement:MAILTO:divertissement@clubmustangoutaouais.ca
END:VEVENT
END:VCALENDAR