BEGIN:VCALENDAR
VERSION:2.0
PRODID:Events Booking
BEGIN:VEVENT
UID:69ea8029c95d7
SUMMARY:Randonnée avec Club Mustang Rive-Nord
DESCRIPTION:CONFIRMÉ - DÉTAILS À SUIVRE
DTSTART:20260523T040000Z
DTSTAMP:20260217T114109Z
ORGANIZER;CN=Divertissement:MAILTO:divertissement@clubmustangoutaouais.ca
END:VEVENT
END:VCALENDAR