BEGIN:VCALENDAR
VERSION:2.0
PRODID:Events Booking
BEGIN:VEVENT
UID:69ea6a2ea024c
SUMMARY:Souper ouverture saison 2026 CMO
DESCRIPTION:Souper d'ouverture saison 2026
  
 Bonjour les Mustangers !L
 a belle météo arrive à grands pas et ce sera le moment idéal pour se r
 etrouver lors du souper d’ouverture de la saison le 23 avril 2026@ 18h00
  au Restaurant La Station\, situé au 611 Boulevard Saint-Joseph\, Gatinea
 u\, Quebec J8Y 4A6
 Vous aurez l’occasion de découvrir les nouveautés
  pour la prochaine saison\, que ce soit pour les vêtements ou les futures
  randonnées.Nous vous attendons en grand nombre pour socialiser et jaser 
 de vos bolides dans une ambiance conviviale.C’est également une excelle
 nte occasion de renouveler votre carte de membre pour 2026 https://www.clu
 bmustangoutaouais.ca/fr/membres/devenir membre
 Pour toutes vos questions
 \, écrivez nous à : randonnee@clubmustangoutaouais.ca
LOCATION:611 Boulevard Saint-Joseph\, Gatineau\, Quebec J8Y 4A6
DTSTART:20260423T220000Z
DTEND:20260424T010000Z
DTSTAMP:20260304T093108Z
ORGANIZER;CN=Divertissement:MAILTO:divertissement@clubmustangoutaouais.ca
GEO:45.450222;-75.739361
X-APPLE-STRUCTURED-LOCATION;VALUE=URI;X-ADDRESS=611 Boulevard Saint-Joseph\
 , Gatineau\, Quebec J8Y 4A6;X-APPLE-RADIUS=72;X-TITLE=Restaurant La Statio
 n:45.450222;-75.739361
END:VEVENT
END:VCALENDAR