BEGIN:VCALENDAR
VERSION:2.0
PRODID:Events Booking
BEGIN:VEVENT
UID:69ea6a61c1c5a
SUMMARY:Cabane à Sucre - Domaine des Cerfs
DESCRIPTION:Sortie à la Cabane à Sucre
 Bonjour les passionnés!  Il es
 t le temps de se sucrer le bec !! 
 La période des sucres est arrivée 
 au Québec et le Club Mustang Outaouais vous invite à un délicieux repas
  à la cabane à sucre!Nous vous donnons rendez-vous le 11 avril 2026 à 1
 2h00 au Domaine des Cerfs\, 83 montée des Pins\, Lac Blue Sea 
 https:
 //domaineducerf.ca/
 Itinéraire: https://maps.app.goo.gl/AgA3XmMW7hzdCe
 SUA
 Au menu : un repas traditionnel du temps des sucres\, à savourer en
 tre amis dans une ambiance chaleureuse.
 Coût : 34\,50 $ par personne + 
 taxes
 Départ en groupe prévu à 10h30\,  200 boulevard Gréber\, Gat
 ineau.
 Nous vous attendons en grand nombre pour célébrer cette belle t
 radition québécoise!
 Inscription obligatoire avant le 23 mars 2026 afi
 n de transmettre un nombre exact de participants au restaurateur.
 Faites
  vite\, les places sont limitées
 Au plaisir de partager ce bon moment a
 vec vous! 
 Pour infos supplémentaires\, écrire à l'adresse courriel r
 andonnee@clubmustangoutaouais.ca
  
LOCATION:83 Mnt des Pins\, Blue Sea\, QC J0X 1C0
DTSTART:20260411T160000Z
DTEND:20260411T190000Z
DTSTAMP:20260310T055023Z
ORGANIZER;CN=Divertissement:MAILTO:divertissement@clubmustangoutaouais.ca
GEO:46.161565;-76.091609
X-APPLE-STRUCTURED-LOCATION;VALUE=URI;X-ADDRESS=83 Mnt des Pins\, Blue Sea\
 , QC J0X 1C0;X-APPLE-RADIUS=72;X-TITLE=Cabane à Sucre Domaine des Cerfs:4
 6.161565;-76.091609
END:VEVENT
END:VCALENDAR