BEGIN:VCALENDAR
VERSION:2.0
PRODID:Events Booking
BEGIN:VEVENT
UID:69ea984b5cb15
SUMMARY:Meet & Grease annuel 2026
DESCRIPTION:EXPOSITION VÉHICULES DERAND MOTORSPORTS
 ÉVÉNEMENT À NE PA
 S MANQUER !
 Nous lançons l’invitation à tous les membres pour une ac
 tivité 100 % passion et bonne cause ❤️ 14 juin 2026⏰ Dès midi 1175
  Newmarket\, Ottawa
  Derand Motorsports présente son Meet &amp\; Grease
  annuel au profit de l’Institut de cardiologie d’Ottawa
 Au programme
  :Des voitures de tous genres BBQ Musique Tirages et surprises
  C’est 
 l’occasion parfaite de sortir nos Mustang\, représenter fièrement notr
 e club et rencontrer d’autres passionnés d’automobile !Venez vivre un
  super dimanche après-midi avec nous… pour une cause qui fait vraiment 
 la différence ❤️
 On compte sur vous ! Qui sera présent ?
 Prenez 
 deux minutes pour vous enregistrer\, ce sera très utile pour déterminer 
 les espaces de stationnement requises pour les membres du CMO 
LOCATION:1231 Newmarket St C\, Ottawa\, ON K1B 5N6
DTSTART:20260614T160000Z
DTEND:20260614T200000Z
DTSTAMP:20260326T004457Z
ORGANIZER;CN=Divertissement:MAILTO:divertissement@clubmustangoutaouais.ca
GEO:45.411175;-75.619026
X-APPLE-STRUCTURED-LOCATION;VALUE=URI;X-ADDRESS=1231 Newmarket St C\, Ottaw
 a\, ON K1B 5N6;X-APPLE-RADIUS=72;X-TITLE=Derand Derand:45.411175;-75.61902
 6
END:VEVENT
END:VCALENDAR