BEGIN:VCALENDAR
VERSION:2.0
PRODID:Events Booking
BEGIN:VEVENT
UID:69ea6a5203566
SUMMARY:La Principale se sucre le bec
DESCRIPTION:https://www.facebook.com/photo/?fbid=122274592778222147&amp\;se
 t=gm.2330985464035140
 Le Vieux Aylmer se sucre le Bec ?De belles animati
 ons vous attendent pour toute la famille lors de cet événement festif le
 s 11-12 avril prochain - 10h-16h! ?✨ Au programme :❤️ Tire sur la ne
 ige\, produits d'érables\, alcool d'érable\, savon érable\, pâtisserie
 s érables\, cadeaux en bois d'érable et produits divers tous plus wow le
 s uns que les autres? Jongleur❤️ Fermette? Structures gonflables? L'As
  des Jeux? Maquillage et tatouage pour enfants? Près de 50 exposants? Le 
 long de la rue principale\, entre Le Monastère (161\, rue principale) et 
 le Musée de l'Auberge Symmes (1\, rue Principale).Venez profiter de momen
 ts gourmands et amusants en famille! ? (voir les images individuelles pour
  les heures et emplacements la semaine avant l'événement)
DTSTART:20260411T140000Z
DTEND:20260412T200000Z
DTSTAMP:20260326T023550Z
ORGANIZER;CN=Divertissement:MAILTO:divertissement@clubmustangoutaouais.ca
END:VEVENT
END:VCALENDAR