BEGIN:VCALENDAR
VERSION:2.0
PRODID:Events Booking
BEGIN:VEVENT
UID:69ead4d1200da
SUMMARY:Randonnée vers Wakefield
DESCRIPTION:Proposition d'une très belle randonnée en direction de Wakefi
 eld
 Cher passionnés\, Je vous lance une idée de randonnée de Mustang
  pour le samedi 26 septembre qui sera remise au dimanche 27 septembre s’
 il y a des prévisions de pluie.
 Départ du 200 boulevard Gréber @ 11h0
 0
 Veuillez consulter le document en pièce jointe pour les détails de l
 a randonnée et itinéraire.  (vous devez vous connecter pour y accéder)
 
 Pour de plus amples informations\, veuillez faire parvenir un courriel 
 à randonnee@clubmustangoutaouais.ca
  
DTSTART:20260926T143000Z
DTEND:20260926T230000Z
DTSTAMP:20260329T072733Z
ORGANIZER;CN=Divertissement:MAILTO:divertissement@clubmustangoutaouais.ca
END:VEVENT
END:VCALENDAR