BEGIN:VCALENDAR
VERSION:2.0
PRODID:Events Booking
BEGIN:VEVENT
UID:69ead4d6a7dbb
SUMMARY:Piste accélération Luskville - Ford exposition & Accélération 
DESCRIPTION:PISTE D'ACCÉLÉRATION LUSKVILLE
 https://www.luskvilledragway
 .com/
  
  - Départ possible du 200 Gréber @08h45
 - Devez montrer 
 votre carte de membre CMO membership pour obtenir le prix réduit de 25$ 
 à 15$ 
 - Connectez vous pour voir les détails de la journée
 - Un 
 événement conjoint avec Ottawa Mustang Club
LOCATION:800 Lamoureux Ch\, Luskville QC J0X 2G0
DTSTART:20260920T124500Z
DTEND:20260920T190000Z
DTSTAMP:20260407T005220Z
ORGANIZER;CN=Divertissement:MAILTO:divertissement@clubmustangoutaouais.ca
GEO:45.518851;-76.033409
X-APPLE-STRUCTURED-LOCATION;VALUE=URI;X-ADDRESS=800 Lamoureux Ch\, Luskvill
 e QC J0X 2G0;X-APPLE-RADIUS=72;X-TITLE=Luskville Dragway:45.518851;-76.033
 409
END:VEVENT
END:VCALENDAR